BEGIN:VCALENDAR
VERSION:2.0
PRODID:-//Wiborada - ECPv6.15.20//NONSGML v1.0//EN
CALSCALE:GREGORIAN
METHOD:PUBLISH
X-WR-CALNAME:Wiborada
X-ORIGINAL-URL:https://wiborada-ist-da.ch
X-WR-CALDESC:Veranstaltungen für Wiborada
REFRESH-INTERVAL;VALUE=DURATION:PT1H
X-Robots-Tag:noindex
X-PUBLISHED-TTL:PT1H
BEGIN:VTIMEZONE
TZID:Europe/Zurich
BEGIN:DAYLIGHT
TZOFFSETFROM:+0100
TZOFFSETTO:+0200
TZNAME:CEST
DTSTART:20250330T010000
END:DAYLIGHT
BEGIN:STANDARD
TZOFFSETFROM:+0200
TZOFFSETTO:+0100
TZNAME:CET
DTSTART:20251026T010000
END:STANDARD
BEGIN:DAYLIGHT
TZOFFSETFROM:+0100
TZOFFSETTO:+0200
TZNAME:CEST
DTSTART:20260329T010000
END:DAYLIGHT
BEGIN:STANDARD
TZOFFSETFROM:+0200
TZOFFSETTO:+0100
TZNAME:CET
DTSTART:20261025T010000
END:STANDARD
BEGIN:DAYLIGHT
TZOFFSETFROM:+0100
TZOFFSETTO:+0200
TZNAME:CEST
DTSTART:20270328T010000
END:DAYLIGHT
BEGIN:STANDARD
TZOFFSETFROM:+0200
TZOFFSETTO:+0100
TZNAME:CET
DTSTART:20271031T010000
END:STANDARD
END:VTIMEZONE
BEGIN:VEVENT
DTSTART;VALUE=DATE:20260413
DTEND;VALUE=DATE:20260414
DTSTAMP:20260421T104927
CREATED:20260116T133833Z
LAST-MODIFIED:20260124T144328Z
UID:3403-1776038400-1776124799@wiborada-ist-da.ch
SUMMARY:Annette Kehnel
DESCRIPTION:Ich bin Mittelalterhistorikerin. Mich treibt die Frage um\, ob und wenn ja wozu wir heute noch Nonnen und Mönche brauchen. Ein Tag Da-Sein wie Wiborada bietet mir Gelegenheit\, diese Frage aus einer anderen Perspektive zu erkunden – so jedenfalls hoffe ich.
URL:https://wiborada-ist-da.ch/event/annette-kehnel/
LOCATION:Wiborada-Zelle\, Kirche St.Mangen\, Kirchgasse 17\, St.Gallen\, 9000\, Switzerland
CATEGORIES:Zelle
ATTACH;FMTTYPE=image/jpeg:https://wiborada-ist-da.ch/wp-content/uploads/2026/01/Annette-Kehnel.jpg
END:VEVENT
END:VCALENDAR