BEGIN:VCALENDAR
VERSION:2.0
PRODID:-//Wiborada - ECPv6.15.20//NONSGML v1.0//EN
CALSCALE:GREGORIAN
METHOD:PUBLISH
X-WR-CALNAME:Wiborada
X-ORIGINAL-URL:https://wiborada-ist-da.ch
X-WR-CALDESC:Veranstaltungen für Wiborada
REFRESH-INTERVAL;VALUE=DURATION:PT1H
X-Robots-Tag:noindex
X-PUBLISHED-TTL:PT1H
BEGIN:VTIMEZONE
TZID:Europe/Zurich
BEGIN:DAYLIGHT
TZOFFSETFROM:+0100
TZOFFSETTO:+0200
TZNAME:CEST
DTSTART:20250330T010000
END:DAYLIGHT
BEGIN:STANDARD
TZOFFSETFROM:+0200
TZOFFSETTO:+0100
TZNAME:CET
DTSTART:20251026T010000
END:STANDARD
BEGIN:DAYLIGHT
TZOFFSETFROM:+0100
TZOFFSETTO:+0200
TZNAME:CEST
DTSTART:20260329T010000
END:DAYLIGHT
BEGIN:STANDARD
TZOFFSETFROM:+0200
TZOFFSETTO:+0100
TZNAME:CET
DTSTART:20261025T010000
END:STANDARD
BEGIN:DAYLIGHT
TZOFFSETFROM:+0100
TZOFFSETTO:+0200
TZNAME:CEST
DTSTART:20270328T010000
END:DAYLIGHT
BEGIN:STANDARD
TZOFFSETFROM:+0200
TZOFFSETTO:+0100
TZNAME:CET
DTSTART:20271031T010000
END:STANDARD
END:VTIMEZONE
BEGIN:VEVENT
DTSTART;VALUE=DATE:20260421
DTEND;VALUE=DATE:20261109
DTSTAMP:20260421T130955
CREATED:20250630T072735Z
LAST-MODIFIED:20260420T162526Z
UID:518-1776729600-1794182399@wiborada-ist-da.ch
SUMMARY:Frauen – Weibliche Lebenswelten im Mittelalter
DESCRIPTION:Herrscherinnen und Mägde\, Äbtissinnen und Mütter\, Rebellinnen und Heilige: Die Sommerausstellung der Stiftsbibliothek St.Gallen zeigt die Vielfalt mittelalterlicher Frauenleben. Sie erzählt von weltabgewandten Klausnerinnen\, belesenen Nonnen und hart arbeitenden Dienerinnen\, aber auch von Rollenbildern\, Frauengesundheit und Widerstand in Umbruchzeiten.
URL:https://wiborada-ist-da.ch/event/frauenleben-spuren-weiblicher-lebensformen-in-der-stiftsbibliothek/
LOCATION:Stiftsbibliothek\, Klosterhof 6D\, St.Gallen\, St.Gallen\, 9000\, Switzerland
CATEGORIES:Ausstellung
END:VEVENT
END:VCALENDAR