BEGIN:VCALENDAR
VERSION:2.0
PRODID:-//Wiborada - ECPv6.15.20//NONSGML v1.0//EN
CALSCALE:GREGORIAN
METHOD:PUBLISH
X-WR-CALNAME:Wiborada
X-ORIGINAL-URL:https://wiborada-ist-da.ch
X-WR-CALDESC:Veranstaltungen für Wiborada
REFRESH-INTERVAL;VALUE=DURATION:PT1H
X-Robots-Tag:noindex
X-PUBLISHED-TTL:PT1H
BEGIN:VTIMEZONE
TZID:Europe/Zurich
BEGIN:DAYLIGHT
TZOFFSETFROM:+0100
TZOFFSETTO:+0200
TZNAME:CEST
DTSTART:20250330T010000
END:DAYLIGHT
BEGIN:STANDARD
TZOFFSETFROM:+0200
TZOFFSETTO:+0100
TZNAME:CET
DTSTART:20251026T010000
END:STANDARD
BEGIN:DAYLIGHT
TZOFFSETFROM:+0100
TZOFFSETTO:+0200
TZNAME:CEST
DTSTART:20260329T010000
END:DAYLIGHT
BEGIN:STANDARD
TZOFFSETFROM:+0200
TZOFFSETTO:+0100
TZNAME:CET
DTSTART:20261025T010000
END:STANDARD
BEGIN:DAYLIGHT
TZOFFSETFROM:+0100
TZOFFSETTO:+0200
TZNAME:CEST
DTSTART:20270328T010000
END:DAYLIGHT
BEGIN:STANDARD
TZOFFSETFROM:+0200
TZOFFSETTO:+0100
TZNAME:CET
DTSTART:20271031T010000
END:STANDARD
END:VTIMEZONE
BEGIN:VEVENT
DTSTART;VALUE=DATE:20260424
DTEND;VALUE=DATE:20260425
DTSTAMP:20260421T164248
CREATED:20260420T154915Z
LAST-MODIFIED:20260420T154953Z
UID:4139-1776988800-1777075199@wiborada-ist-da.ch
SUMMARY:Premiere Wiborada Audiowalk mit Überraschungen
DESCRIPTION:Wiborada: Die einflussreichste Ratgeberin von St. Gallen.\nWer war diese Frau? \nIm Mittelalter\, als die Kirche das Bistum und das Volk lenkte\, wurde Wiborada zur wichtigsten Frau St. Gallens. Sie rettete die Manuskripte der Stiftsbibliothek in St. Gallen vor den einfallenden Horden. Aus ihrer Klause heraus gewann sie grossen geistlichen und politischen Einfluss. \nErlebe ihre faszinierende Geschichte neu – mit deinen Ohren! \n\nKosten/Preis: gratis\nDauer: max. 120 Minuten\nPoints of Interest:\n\nRoter Platz von Pipilotti Rist\nTreppenstadt (13‘000 Stufen!)\nPanoramablick über die Stadt\nSt.Georgen Kirche\, Wiborada Kapelle\nwilde Mühlenenschlucht\nKlosterplatz St. Gallen\nSt. Mangen Kirche (Klause)\n\n\n\nMehr Informationen: Auf den Spuren von Wiborada |
URL:https://wiborada-ist-da.ch/event/premiere-wiborada-audiowalk-mit-ueberraschungen/
LOCATION:Wiborada-Zelle\, Kirche St.Mangen\, Kirchgasse 17\, St.Gallen\, 9000\, Switzerland
CATEGORIES:Zelle
END:VEVENT
END:VCALENDAR